BEGIN:VCALENDAR
VERSION:2.0
PRODID:-//MudRadar.de - ECPv6.15.20//NONSGML v1.0//EN
CALSCALE:GREGORIAN
METHOD:PUBLISH
X-ORIGINAL-URL:https://www.mudradar.de
X-WR-CALDESC:Veranstaltungen für MudRadar.de
REFRESH-INTERVAL;VALUE=DURATION:PT1H
X-Robots-Tag:noindex
X-PUBLISHED-TTL:PT1H
BEGIN:VTIMEZONE
TZID:Europe/Berlin
BEGIN:DAYLIGHT
TZOFFSETFROM:+0100
TZOFFSETTO:+0200
TZNAME:CEST
DTSTART:20230326T010000
END:DAYLIGHT
BEGIN:STANDARD
TZOFFSETFROM:+0200
TZOFFSETTO:+0100
TZNAME:CET
DTSTART:20231029T010000
END:STANDARD
BEGIN:DAYLIGHT
TZOFFSETFROM:+0100
TZOFFSETTO:+0200
TZNAME:CEST
DTSTART:20240331T010000
END:DAYLIGHT
BEGIN:STANDARD
TZOFFSETFROM:+0200
TZOFFSETTO:+0100
TZNAME:CET
DTSTART:20241027T010000
END:STANDARD
BEGIN:DAYLIGHT
TZOFFSETFROM:+0100
TZOFFSETTO:+0200
TZNAME:CEST
DTSTART:20250330T010000
END:DAYLIGHT
BEGIN:STANDARD
TZOFFSETFROM:+0200
TZOFFSETTO:+0100
TZNAME:CET
DTSTART:20251026T010000
END:STANDARD
END:VTIMEZONE
BEGIN:VEVENT
DTSTART;VALUE=DATE:20241005
DTEND;VALUE=DATE:20241006
DTSTAMP:20260421T134035
CREATED:20231103T070004Z
LAST-MODIFIED:20231219T093500Z
UID:10001118-1728086400-1728172799@www.mudradar.de
SUMMARY:Strong Viking Family Edition Warstein 2024 #abgesagt
DESCRIPTION:(c) strongviking.com\nDie Strong Viking Family Edition Warstein 2024 ist auch dieses Jahr wieder in Warstein zugegen und sorgt wieder für Familien-Spaß PUR!! \nUnweit vom Ruhrpott und der Grenze zu Hessen kommen wieder viele Wikinger zum vierten Mal ins wunderschöne Sauerland zurück! \n\n\n\n\n\nStrong Viking Family Edition Warstein 2024\nGemeinsam könnt ihr mit euren Kindern (ab 5 Jahren) in Warstein wieder einen vollgepackten 4Km langen Strong Viking Hindernisparcours bezwingen. Hier kommt es auf Zusammenhalt an\, um alle Hindernisse zu überwinden und Walhalla (die Ziellinie) als echte Wikingerfamilie zu erreichen!\n\n\nGemeinsam geht es in faszinierender Umgebung über Hindernisse\, wie Storm the Castle und Mud-Trenches (Matsch-Gräben). Auf dem schwebenden Balken werden bei Wikingerkämpfen die wahren Familienoberhäupter bestimmt\, bevor es dann wieder gemeinsam über die Ravning Bridge geht! \nEin Tag voller Abenteuer\, Familienzusammenhalt und vor allem jeder Menge Spaß\, steht euch bei der Family Edition in Warstein bevor! Als würden die Kinderaugen nach diesem Abenteuer nicht schon genug strahlen\, werden die Kids nach Zieleinlauf zusätzlich mit einer Strong-Viking-Kindermedaille belohnt! In Verbindung mit dem Finisher-Shirt werden diese Juwelen noch lange nach dem Event voller Stolz präsentiert! Und auch die Eltern bekommen neben glücklichen Kindern noch eine rühmliche Erinnerung in Form des Finisher-Shirts. Also ein voller Erfolg für die ganze (Wikinger-)Familie – OORAH!! \nBis bald in Walhalla (Warstein/NRW) \n\n\n\n\n\n\n\nStrong Viking Family Edition Warstein 2024\nDie Strong Viking Family Edition Warstein 2024 ist ein Hindernislauf bei dem auf einer Strecke von 4 km einfaches Joggen mit dem Überwinden von Hindernissen kombiniert wird. Es ist eine einzigartige Erfahrung für alle „Outdoor Sport“ Liebhaber. \n\n\n\n\n\n\n\n\n\nDer Strong Viking Family Run ganz unter dem Motto von Schlamm\, Hindernissen & jede Menge Spaß!
URL:https://www.mudradar.de/hindernislauf/strong-viking-family-edition-warstein-2024
LOCATION:Strong Viking Warstein\, Zu Hause im Waldpark\, Warstein\, Nordrhein-Westfalen\, 59581\, Deutschland
CATEGORIES:04 km
ATTACH;FMTTYPE=image/jpeg:https://www.mudradar.de/wp-content/uploads/2016/10/sc-strong-viking-family-04.jpg
ORGANIZER;CN="Strong Viking":MAILTO:info@strongviking.de
GEO:51.4279084;8.3544689
X-APPLE-STRUCTURED-LOCATION;VALUE=URI;X-ADDRESS=Strong Viking Warstein Zu Hause im Waldpark Warstein Nordrhein-Westfalen 59581 Deutschland;X-APPLE-RADIUS=500;X-TITLE=Zu Hause im Waldpark:geo:8.3544689,51.4279084
END:VEVENT
BEGIN:VEVENT
DTSTART;VALUE=DATE:20241005
DTEND;VALUE=DATE:20241006
DTSTAMP:20260421T134035
CREATED:20231103T070011Z
LAST-MODIFIED:20231219T093445Z
UID:10001117-1728086400-1728172799@www.mudradar.de
SUMMARY:Strong Viking Brother Edition Warstein 2024 #abgesagt
DESCRIPTION:Die Strong Viking Warstein Brother Edition 2024 findet auch dieses Jahr wieder statt. Warstein etabliert sich als feste Größe!! \n(c) strongviking.com\nVikings sind die Härtesten und Erfahrensten unter euch\, das Besondere ist euer starker Zusammenhalt: BROTHERHOOD! \nFreunde an der Startlinie\, Brüder im Ziel! Wikinger kämpften Schulter an Schulter und haben einander nie im Stich gelassen! Die Strong Viking BROTHER Edition lässt euch dieses Gefühl erleben! \nStrong Viking Warstein Brother Edition 2024\n\n\n\nTEAMWORK wird hier großgeschrieben! Schildmeiden und Krieger bestehen die Prüfungen der Brother Edition gemeinsam und müssen sich durch einen Parcours von 4\, 7\, 13\, 19 Kilometern kämpfen. Versammelt eure Freunde und Kollegen und geht dieses Wagnis an! \n\n\n\n\n\n\n\n\n\n\nJetzt ist Team-Play angesagt. Bei der Strong Viking Brother Edition werdet ihr auf viele Hindernisse treffen\, die ihr nur gemeinsam bewältigen könnt. Überwindet Mauern und Schrägwände\, schleppt Baumstämme und Schiffsketten. Dazu warten zahlreiche spektakuläre Hindernisse auf euch\, die euch mental und physisch heraufordern werden. Gräben\, Wasserbecken\, Crawls und vieles mehr. Zum Schluss dürft ihr zurecht mit einem gemeinsamen Bier unter Wikingern feiern und euren Sieg in Walhalla begießen! \nEs wird nicht mit irgendeinem Bier gefeiert. Die Veranstaltung wird stattfinden in Warstein\, genauer gesagt auf dem Gelände der Warsteiner Brauerei! Ihr werdet also mit Sicherheit auch unterwegs auf das ein oder andere Fässchen stoßen. \nStrong Viking Warstein Brother Edition 2023\n\n\n\n\n\n\n\nDie ultimative Herausforderung für dich: Trau dich und laufe entweder den Beginner (4km)\, den Lightning (7 km)\, den Warrior (13 km) und sogar den Beast (19 km) als Brother Edition! Auch der härteste Hindernismarathon Deutschlands ist hier (42 km mit über 100 Obstacle). \n#NEWS – Werde ein starkes Viking-Mitglied!\nSind Sie bereit\, Teil unserer besonderen Strong Viking-Community zu werden? Mit unseren verschiedenen Mitgliedschaften erhalten Sie Zugang zu einer exklusiven Viking-Welt voller Rabatte\, Vorteile und Möglichkeiten\, Ihr Strong Viking-Erlebnis auf die nächste Stufe zu heben! Mit der Wahl zwischen zwei verschiedenen Mitgliedschaften können Sie von verschiedenen Vorteilen profitieren.  \nStarke Viking-Mitgliedschaft:\ndeine Vorteile:\n\n\nEin kostenloses Ticket für eine Strong Viking Edition Ihrer Wahl.\nExtra 10 % Rabatt auf alle Strong Viking-Events in einem Kalenderjahr\nKostenloses Parken bei allen Strong Viking-Veranstaltungen\nSeien Sie immer der Erste\, der über Neuigkeiten und exklusive Inhalte über den Mitglieder-Mailing informiert wird.\n10 % Rabatt auf alle Strong Viking-Artikel über hindernisrunshop.com\nNur 5\,95 € pro Monat (12 Monate Mitgliedschaft)\n\nStarke Viking World-Mitgliedschaft:\ndeine Vorteile:  \n\nImmer ein Rabatt auf alle Strong Viking Events.\n\n4-7-13-19km nur 4\,95 € pro Ticket\nIron Viking 34\,95 € pro Ticket\nOCR-Serie 24\,95 € pro Ticket\n\n\nKostenloses Parken bei allen Strong Viking-Veranstaltungen\nSeien Sie immer der Erste\, der über Neuigkeiten und exklusive Inhalte über den Mitglieder-Mailing informiert wird.\n15 % Rabatt auf alle Strong Viking-Artikel über hindernisrunshop.com\nNur 19\,95 € pro Monat (12 Monate Mitgliedschaft)\n\n\n\n\n\n\n\nPreise für den Strong Viking OCR´s\nSolltet ihr euch nicht für eine Mitgliedschaft begeistern können\, so bleibt immer noch die Möglichkeit zu sparen!\nOb „Early Bird“ oder „Frühbucherrabatt“ – es lohnt sich auf alle Fälle sich rechtzeitig ein Ticket zu besorgen\, da die Preise kontinuierlich Steigen je näher der Termin für das Race heranrückt!!\nAuch gibt man dem Veranstalter mit einer frühen Buchung Handlungssicherheit für die Durchführung eures Lieblings-Events.\nAlso jetzt bereits Tickets buchen und bares Geld sparen!!
URL:https://www.mudradar.de/hindernislauf/strong-viking-warstein-brother-edition-2024
LOCATION:Strong Viking Warstein\, Zu Hause im Waldpark\, Warstein\, Nordrhein-Westfalen\, 59581\, Deutschland
CATEGORIES:04 km,07 km,13 km,19 km
ATTACH;FMTTYPE=image/jpeg:https://www.mudradar.de/wp-content/uploads/2020/01/2020.09.26_StrongViking_BrotherEdition_Warstein.jpg
ORGANIZER;CN="Strong Viking":MAILTO:info@strongviking.de
GEO:51.4279084;8.3544689
X-APPLE-STRUCTURED-LOCATION;VALUE=URI;X-ADDRESS=Strong Viking Warstein Zu Hause im Waldpark Warstein Nordrhein-Westfalen 59581 Deutschland;X-APPLE-RADIUS=500;X-TITLE=Zu Hause im Waldpark:geo:8.3544689,51.4279084
END:VEVENT
BEGIN:VEVENT
DTSTART;VALUE=DATE:20241005
DTEND;VALUE=DATE:20241006
DTSTAMP:20260421T134035
CREATED:20231103T070030Z
LAST-MODIFIED:20231219T093839Z
UID:10001116-1728086400-1728172799@www.mudradar.de
SUMMARY:Strong Viking Warstein Iron Viking 2024 #abgesagt
DESCRIPTION:Die Strong Viking Warstein 2024 – Iron Viking kommt zurück nach Warstein! \n(c) strongviking.com\nStrong Viking Warstein Iron Viking 2024\n\n\nTEAMWORK wird hier großgeschrieben! Schildmeiden und Krieger bestehen die Prüfungen der Brother Edition gemeinsam und müssen sich durch einen Parcours von 4\, 7\, 13\, 19 oder 42 Kilometern kämpfen. Versammelt eure Freunde und Kollegen und geht dieses Wagnis an! \n\n\n\n\n\n\n\n\n\n\nJetzt ist Team-Play angesagt. Bei der Strong Viking Brother Edition werdet ihr auf viele Hindernisse treffen\, die ihr nur gemeinsam bewältigen könnt. Überwindet Mauern und Schrägwände\, schleppt Baumstämme und Schiffsketten. Dazu warten zahlreiche spektakuläre Hindernisse auf euch\, die euch mental und physisch heraufordern werden. Gräben\, Wasserbecken\, Crawls und vieles mehr. Zum Schluss dürft ihr zurecht mit einem gemeinsamen Bier unter Wikingern feiern und euren Sieg in Walhalla begießen! \nEs wird nicht mit irgendeinem Bier gefeiert. Die Veranstaltung wird stattfinden in Warstein\, genauer gesagt auf dem Gelände der Warsteiner Brauerei! Ihr werdet also mit Sicherheit auch unterwegs auf das ein oder andere Fässchen stoßen. \nStrong Viking Warstein Iron Viking 2024\nOoooraaaaaah! – werde ein Iron Viking!!\n(c) mudradar.de – Start der Iron Vikings (Marathon) bei der Brother Edition in Warstein 2019\nMedaille für den Iron Viking\n(c) strongviking.com – die Iron Viking Medaille 2023\n#endlich – Strong Viking hat zugehört und für die kommende Saison endlich wieder eine wirklich eindrucksvolle Iron Viking Medaille kreiert!! \nHut ab für dieses Schmuckstück – wir denken\, das so einige ihre Aussage zurücknehmen werden um sich erneut im Jahr 2024 auf dem Weg machen\, um diese Iron Viking Medaille zu ergattern!\nSehr viele wird es auch motivieren\, sich mit dieser Medaille das erstes Mal für den härtesten Hindernislauf-Marathon anzumelden! \n#NEWS – Werde ein starkes Viking-Mitglied!\nSind Sie bereit\, Teil unserer besonderen Strong Viking-Community zu werden? Mit unseren verschiedenen Mitgliedschaften erhalten Sie Zugang zu einer exklusiven Viking-Welt voller Rabatte\, Vorteile und Möglichkeiten\, Ihr Strong Viking-Erlebnis auf die nächste Stufe zu heben! Mit der Wahl zwischen zwei verschiedenen Mitgliedschaften können Sie von verschiedenen Vorteilen profitieren.  \nStarke Viking-Mitgliedschaft:\ndeine Vorteile:\n\n\nEin kostenloses Ticket für eine Strong Viking Edition Ihrer Wahl.\nExtra 10 % Rabatt auf alle Strong Viking-Events in einem Kalenderjahr\nKostenloses Parken bei allen Strong Viking-Veranstaltungen\nSeien Sie immer der Erste\, der über Neuigkeiten und exklusive Inhalte über den Mitglieder-Mailing informiert wird.\n10 % Rabatt auf alle Strong Viking-Artikel über hindernisrunshop.com\nNur 5\,95 € pro Monat (12 Monate Mitgliedschaft)\n\nStarke Viking World-Mitgliedschaft:\ndeine Vorteile:  \n\nImmer ein Rabatt auf alle Strong Viking Events.\n\n4-7-13-19km nur 4\,95 € pro Ticket\nIron Viking 34\,95 € pro Ticket\nOCR-Serie 24\,95 € pro Ticket\n\n\nKostenloses Parken bei allen Strong Viking-Veranstaltungen\nSeien Sie immer der Erste\, der über Neuigkeiten und exklusive Inhalte über den Mitglieder-Mailing informiert wird.\n15 % Rabatt auf alle Strong Viking-Artikel über hindernisrunshop.com\nNur 19\,95 € pro Monat (12 Monate Mitgliedschaft)\n\n\n\n\n\n\n\nPreise für den Strong Viking OCR´s\nSolltet ihr euch nicht für eine Mitgliedschaft begeistern können\, so bleibt immer noch die Möglichkeit zu sparen!\nOb „Early Bird“ oder „Frühbucherrabatt“ – es lohnt sich auf alle Fälle sich rechtzeitig ein Ticket zu besorgen\, da die Preise kontinuierlich Steigen je näher der Termin für das Race heranrückt!!\nAuch gibt man dem Veranstalter mit einer frühen Buchung Handlungssicherheit für die Durchführung eures Lieblings-Events.\nAlso jetzt bereits Tickets buchen und bares Geld sparen!! \n\n\n\n\n\n 
URL:https://www.mudradar.de/hindernislauf/strong-viking-warstein-iron-viking-2024
LOCATION:Strong Viking Warstein\, Zu Hause im Waldpark\, Warstein\, Nordrhein-Westfalen\, 59581\, Deutschland
CATEGORIES:42 km
ATTACH;FMTTYPE=image/jpeg:https://www.mudradar.de/wp-content/uploads/2016/10/2020.04.04_StrongViking_IronViking_NIJMEGEN.jpg
ORGANIZER;CN="Strong Viking":MAILTO:info@strongviking.de
GEO:51.4279084;8.3544689
X-APPLE-STRUCTURED-LOCATION;VALUE=URI;X-ADDRESS=Strong Viking Warstein Zu Hause im Waldpark Warstein Nordrhein-Westfalen 59581 Deutschland;X-APPLE-RADIUS=500;X-TITLE=Zu Hause im Waldpark:geo:8.3544689,51.4279084
END:VEVENT
BEGIN:VEVENT
DTSTART;VALUE=DATE:20241012
DTEND;VALUE=DATE:20241013
DTSTAMP:20260421T134035
CREATED:20240804T063349Z
LAST-MODIFIED:20240817T063318Z
UID:10001153-1728691200-1728777599@www.mudradar.de
SUMMARY:WoidWetza Dirtrun Leiben 2024
DESCRIPTION:Endlich findet der WoidWetza wieder statt!!\n\n[WoidWetza Dirtrun\, am 12. Oktober 2024] \nwoidwetza.at\n\n\nWoidWetza Dirtrun Leiben 2024\nDer WoidWetza ist genau das Richtige für dich!\n\n\nEgal\, ob du ein Dirtrun-Neuling\, ein erfahrener Profiläufer oder Teil eines Teams bist. \nMit Strecken von 5 km\, 12 km und 17 km bieten wir für jeden das perfekte Maß an Herausforderung und Spaß. Die abwechslungsreichen Strecken führen dich durch atemberaubende Woid-Landschaften und spannende Hindernisse\, die garantiert für jede Menge Action sorgen. \nAlso schnapp dir deine Freunde und meldet euch als Team an oder stelle dich alleine der Herausforderung. \n (c) woidwetza.at\n\nWoidWetza Dirtrun Leiben 2024\nWarum auch DU dabei sein solltest? \nAbwechslungsreiche Strecke: Der WoidWetza Dirtrun Leiben 2024 bietet eine abwechslungsreiche Strecke mit grandiosen Hindernissen und Laufpassagen. Egal\, ob du ein erfahrener Läufer oder ein Couchpotato bist\, hier findest du die perfekte Herausforderung. \nNaturerlebnis: Die malerische Region Leiben bietet eine atemberaubende Kulisse für das Rennen. Du wirst die Natur hautnah erleben und gleichzeitig deine Grenzen austesten. \nGemeinschaft und Spaß: Der Dirtrun ist eine großartige Gelegenheit\, dich mit anderen Läufern zu vernetzen und gemeinsam Spaß zu haben. Die Labestationen bieten nicht nur Erfrischungen\, sondern auch die Möglichkeit\, dich auszutauschen. \nPersönliche Erfolge: Egal\, ob du die 5 km\, 12 km oder sogar die 17 km Distanz wählst\, das Überqueren der Ziellinie wird ein stolzer Moment sein. Es ist eine großartige Gelegenheit\, deine persönlichen Ziele zu erreichen. \nAdrenalin und Herausforderung: Hindernisse wie Kletterwände und Schlammgruben werden dein Adrenalin in die Höhe treiben. Die Überwindung dieser Herausforderungen wird dich mit einem Gefühl der Erfüllung belohnen. \nAlso schnür deine Laufschuhe\, trainiere fleißig und sei bereit für ein unvergessliches Abenteuer beim WoidWetza Dirtrun Leiben 2024! \nWoidWetza Dirtrun Leiben 2024\nDu hast die Wahl über welche Distanz du beim WoidWetza DIRTRUN antreten möchtest: \n5 km Distanz\n(c) woidwetza.at\nDiese Strecke kombiniert grandiose Hindernisse mit Laufpassagen und ist so gestaltet\, dass selbst der größte Couchpotato sie bewältigen kann. \nNach einem etwas steileren Anstieg erwartet euch eine Labestation mit Getränken und Snacks von Sponsoren nach ca. 2\,5 km. \n  \n12 km Distanz\n(c) woidwetza.at\nDie 12 km Strecke verläuft teilweise anders als die 5 km Tour und bietet spektakuläre Hindernisse sowie einen atemberaubenden Ausblick über Leiben bis hin zum Alpenvorland. \nHier sind Kraft und Geschick gefragt\, und auch hier gibt es Labestationen für eine kleine Pause. \n  \n17 km Distanz\n(c) woidwetza.at\nWenn ihr eine echte Herausforderung sucht\, ist die 17 km Distanz genau das Richtige für euch. Ihr bewältigt zuerst die 12 km Strecke und anschließend die 5 km Strecke. \nStartplätze sind begrenzt\, also sichert euch schnell genug euer Startticket für die Herausforderung beim WoidWetza DIRTRUN!
URL:https://www.mudradar.de/hindernislauf/woidwetza-dirtrun-leiben-2024
LOCATION:Woidwetza.at Leiben\, Schlossstraße 1\, Leiben\, 3652\, Österreich
CATEGORIES:05 km,12 km,17 km
ATTACH;FMTTYPE=image/jpeg:https://www.mudradar.de/wp-content/uploads/2024/08/WoidWetza_Dirtrun-Leiben-2024-Eventfoto.jpg
END:VEVENT
BEGIN:VEVENT
DTSTART;VALUE=DATE:20241013
DTEND;VALUE=DATE:20241014
DTSTAMP:20260421T134035
CREATED:20240311T093457Z
LAST-MODIFIED:20240311T093457Z
UID:10001147-1728777600-1728863999@www.mudradar.de
SUMMARY:Bären Run Floh-Seligenthal 2024
DESCRIPTION:Adventure – Cross – Hindernislauf\n\n\n\nAm 13. Oktober 2024 startet die 5. Auflage vom Bären Run in Floh-Seligenthal (OT Seligenthal) zu einem neuen Jahreshöhepunkt. Wer uns folgt\, der weiß\, das wir das Besondere lieben und das bedeutet\, das wir kleinere Veranstalter lieben und diese unterstützen! \n(c) baeren-run.de\n\n\n\nBären Run Floh-Seligenthal 2024\n\n\n\nDer Bären Run Floh-Selingenthal wird die 5. Auflage des Sportvereins\, der sich auf die Fahne geschrieben hat\, einen eigenes Event\, eine Mischung aus Adventure Run <-> Crossfit <-> Hindernislauf (OCR)\, auf die Beine zu stellen. Nach einem gelungenen ersten Sportevent startet der SV Floh-Seligenthal auch in diesem Jahr den Bären Run!  \nMit einer Kombination aus überwiegend natürlichen und einigen künstlichen Hindernissen schlängelt sich die Strecke sowohl über Stock und Stein als auch zentral durch den Ort. Die zahlreichen herausfordernden\, anstrengenden und nicht ganz ernst gemeinten Hindernisse bieten jede Menge Abwechslung für Jung und Alt. Gelaufen wird – wie auch schon im letzten Jahr – getreu unserem Motto: AUFGEBEN IST KEINE OPTION. \n(c) baeren-run.de\nMit der Anmeldung erhält jeder Starter: \n\neine Startnummer\nzwei Viba-Schnitten\nGutschein für Verpflegung\nkostenlosen Parkplatz in Streckennähe\nmedizinische Betreuung im Notfall\nbeim Zieleinlauf eine Finisher-Medaille\n\nDie Strecken\nStrongman Bären und Extrem Bären \n\n(c) baeren-run.de\nEs kann zwischen zwei verschiedenen Streckenlängen gewählt werden. Der Streckenverlauf ist ein Rundkurs\, der bei der Langdistanz doppelt gelaufen werden muss. Eine Runde erstreckt sich über eine Länge von 6 km mit etwa 15 Hindernissen. \nFolgende Strecken stehen zur Auswahl: \nStrongman Bären:      6 km Super Bären:            12 km Extrem Bären:          18 km  \n\nHindernisse\nHier nur eine kleine Auswahl: \n\nFlussüberquerungen\nMatschlöcher\nWasserrutsche\nSchuttcontainer\nWassercontainer\nBallenpyramide\nSchaumcontainer\nHolzhaufen uvm.
URL:https://www.mudradar.de/hindernislauf/baeren-run-floh-seligenthal-2024
LOCATION:Bären Run\, Am Sportplatz\, Floh-Seligenthal\, Thüringen\, 98593\, Deutschland
CATEGORIES:06 km,12 km,18 km
ATTACH;FMTTYPE=image/jpeg:https://www.mudradar.de/wp-content/uploads/2023/01/2023.10.01_BaerenRun.jpg
ORGANIZER;CN="B%C3%A4ren Run":MAILTO:info@baeren-run.de
GEO:50.7708303;10.4804114
X-APPLE-STRUCTURED-LOCATION;VALUE=URI;X-ADDRESS=Bären Run Am Sportplatz Floh-Seligenthal Thüringen 98593 Deutschland;X-APPLE-RADIUS=500;X-TITLE=Am Sportplatz:geo:10.4804114,50.7708303
END:VEVENT
BEGIN:VEVENT
DTSTART;VALUE=DATE:20241026
DTEND;VALUE=DATE:20241028
DTSTAMP:20260421T134035
CREATED:20231102T070020Z
LAST-MODIFIED:20231102T142602Z
UID:10001082-1729900800-1730073599@www.mudradar.de
SUMMARY:TEAG - Legend of Cross 2024
DESCRIPTION:(c) Legend of Cross \nDu suchst neue Herausforderungen\, möchtest bis an deine Grenzen gehen und dabei den ultimativen Spaß haben? \nDann melde dich jetzt an für den TEAG – Legend of Cross  2024! \nTEAG – Legend of Cross 2024\nDu bewegst dich gerne in der freien Natur\, liebst Herausforderungen und möchtest an deine Grenzen gehen? Dann nimm teil am legendären Cross- und Hindernislauf TEAG – LEGEND OF CROSS bei den Drei Gleichen in Thüringen und werde selbst zur Legende. \nNachdem die Strecke des spektakulären Crosslaufevents KING OF CROSS 2015 über die Mühlburg und 2016 über Mühlburg und Wachsenburg führte\, wurden 2017 Jahr unter dem neuen Titel LEGEND OF CROSS alle drei Burgen erklommen. Der Legende nach brannten diese drei Burgen im Jahr 1231 gleichzeitig nach einem Blitzeinschlag\, wodurch sie ihren Namen „Drei Gleichen“ erhielten. Lasst uns auch in diesem Jahr gemeinsam diese Legende am 26.-27.10.2024 zu neuem Leben erwecken und die Burgen wieder in Brand stecken – jedoch nicht durch Feuer\, sondern Einsatz\, Schweiß und Kampfesmut. Unter dem Motto LEGENDS NEVER DIE – BE A LEGEND erwarten euch vom Schlammbad bis zum Sprung übers Feuer mehr als 30 natürliche und künstliche Hindernisse\, die die alle läuferisch und ohne Wartezeiten überwunden werden können\, aber selbst geübten Läufer alles abverlangen werden.\n[(c) Text: legendofcross.de] \nTEAG – Legend of Cross 2024\nDistanzen beim Legend of Cross\n \n\n4 km JUNIORCROSS (8-14 Jahre)\n10 km SPRINT (ab 14 Jahre)\n17 km EXPERT (ab 18 Jahre)\n27 km BERSERKER (ab 18 Jahre)\n\n\nFür jede der Hauptstrecken wird der schnellste Mann bzw. die schnellste Frau gekürt und so selbst zur Legende. Oder kämpfe mit deinen Freunden\, Arbeitskollegen oder deiner Sportgruppe gemeinsam im Team um den Titel CLAN OF CROSS. Ein CLAN OF CROSS besteht aus mindestens fünf Läufern\, die auch auf verschiedenen Strecken eines Rennens antreten können. Das Team mit dem niedrigsten Platzierungsquotienten gewinnt den Titel CLAN OF CROSS und erhält als Siegerpreis einen ganz besonderen Wanderpokal. Für die Verpflegung ist durch das Veranstalter-Team CREW OF CROSS gesorgt. \n[Quelle: Legend of Cross]
URL:https://www.mudradar.de/hindernislauf/teag-legend-of-cross-2024
LOCATION:Teag-Legend of Cross\, Am Abels Weingarten 4\, Drei Gleichen\, Thüringen\, 99869\, Deutschland
CATEGORIES:04 km,10 km,17 km,27 km
ATTACH;FMTTYPE=image/jpeg:https://www.mudradar.de/wp-content/uploads/2017/10/sc-legendofcross-01.jpg
ORGANIZER;CN="TEAG - Legend of Cross":MAILTO:info@legendofcross.de
GEO:50.8650727;10.8264343
X-APPLE-STRUCTURED-LOCATION;VALUE=URI;X-ADDRESS=Teag-Legend of Cross Am Abels Weingarten 4 Drei Gleichen Thüringen 99869 Deutschland;X-APPLE-RADIUS=500;X-TITLE=Am Abels Weingarten 4:geo:10.8264343,50.8650727
END:VEVENT
BEGIN:VEVENT
DTSTART;VALUE=DATE:20241026
DTEND;VALUE=DATE:20241028
DTSTAMP:20260421T134035
CREATED:20251113T080524Z
LAST-MODIFIED:20251113T080524Z
UID:10001315-1729900800-1730073599@www.mudradar.de
SUMMARY:TEAG - Legend of Cross 2026
DESCRIPTION:(c) Legend of Cross \nDu suchst neue Herausforderungen\, möchtest bis an deine Grenzen gehen und dabei den ultimativen Spaß haben? \nDann melde dich jetzt an für den TEAG – Legend of Cross  2026! \nTEAG – Legend of Cross 2026\nDu bewegst dich gerne in der freien Natur\, liebst Herausforderungen und möchtest an deine Grenzen gehen? Dann nimm teil am legendären Cross- und Hindernislauf TEAG – LEGEND OF CROSS bei den Drei Gleichen in Thüringen und werde selbst zur Legende. \nNachdem die Strecke des spektakulären Crosslaufevents KING OF CROSS 2015 über die Mühlburg und 2016 über Mühlburg und Wachsenburg führte\, wurden 2017 Jahr unter dem neuen Titel LEGEND OF CROSS alle drei Burgen erklommen. Der Legende nach brannten diese drei Burgen im Jahr 1231 gleichzeitig nach einem Blitzeinschlag\, wodurch sie ihren Namen „Drei Gleichen“ erhielten. Lasst uns auch in diesem Jahr gemeinsam diese Legende am 31.10.-01.11.2026 zu neuem Leben erwecken und die Burgen wieder in Brand stecken – jedoch nicht durch Feuer\, sondern Einsatz\, Schweiß und Kampfesmut. Unter dem Motto LEGENDS NEVER DIE – BE A LEGEND erwarten euch vom Schlammbad bis zum Sprung übers Feuer mehr als 30 natürliche und künstliche Hindernisse\, die die alle läuferisch und ohne Wartezeiten überwunden werden können\, aber selbst geübten Läufer alles abverlangen werden.\n[(c) Text: legendofcross.de] \nTEAG – Legend of Cross 2026\n(Haupt-) Distanzen beim Legend of Cross\n \n\n4 km JUNIOR (8-14 Jahre)\n10 km SPRINT (ab 14 Jahre)\n17 km EXPERT (ab 18 Jahre)\n30 km BERSERKER (ab 18 Jahre)\n\n\nFür jede der Hauptstrecken wird der schnellste Mann bzw. die schnellste Frau gekürt und so selbst zur Legende. Oder kämpfe mit deinen Freunden\, Arbeitskollegen oder deiner Sportgruppe gemeinsam im Team um den Titel CLAN OF CROSS. Ein CLAN OF CROSS besteht aus mindestens fünf Läufern\, die auch auf verschiedenen Strecken eines Rennens antreten können. Das Team mit dem niedrigsten Platzierungsquotienten gewinnt den Titel CLAN OF CROSS und erhält als Siegerpreis einen ganz besonderen Wanderpokal. Für die Verpflegung ist durch das Veranstalter-Team CREW OF CROSS gesorgt.\n[Quelle: Legend of Cross] \n\nTEAG – Legend of Cross 2026\nPreisgestaltung für OCR´s\nSolltet ihr euch nicht für eine Mitgliedschaft begeistern können\, so bleibt immer noch die Möglichkeit zu sparen!\nOb „Early Bird“ oder „Frühbucherrabatt“ – es lohnt sich auf alle Fälle sich rechtzeitig ein Ticket zu besorgen\, da die Preise kontinuierlich Steigen je näher der Termin für das Race heranrückt!!\nAuch gibt man dem Veranstalter mit einer frühen Buchung Handlungssicherheit für die Durchführung eures Lieblings-Events.\nAlso jetzt bereits Tickets buchen und bares Geld sparen!!
URL:https://www.mudradar.de/hindernislauf/teag-legend-of-cross-2026
LOCATION:Teag-Legend of Cross\, Am Abels Weingarten 4\, Drei Gleichen\, Thüringen\, 99869\, Deutschland
CATEGORIES:04 km,10 km,17 km,30 km
ATTACH;FMTTYPE=image/jpeg:https://www.mudradar.de/wp-content/uploads/2017/10/sc-legendofcross-01.jpg
ORGANIZER;CN="TEAG - Legend of Cross":MAILTO:info@legendofcross.de
GEO:50.8650727;10.8264343
X-APPLE-STRUCTURED-LOCATION;VALUE=URI;X-ADDRESS=Teag-Legend of Cross Am Abels Weingarten 4 Drei Gleichen Thüringen 99869 Deutschland;X-APPLE-RADIUS=500;X-TITLE=Am Abels Weingarten 4:geo:10.8264343,50.8650727
END:VEVENT
END:VCALENDAR