BEGIN:VCALENDAR
VERSION:2.0
PRODID:-//MudRadar.de - ECPv6.15.20//NONSGML v1.0//EN
CALSCALE:GREGORIAN
METHOD:PUBLISH
X-ORIGINAL-URL:https://www.mudradar.de
X-WR-CALDESC:Veranstaltungen für MudRadar.de
REFRESH-INTERVAL;VALUE=DURATION:PT1H
X-Robots-Tag:noindex
X-PUBLISHED-TTL:PT1H
BEGIN:VTIMEZONE
TZID:Europe/Berlin
BEGIN:DAYLIGHT
TZOFFSETFROM:+0100
TZOFFSETTO:+0200
TZNAME:CEST
DTSTART:20250330T010000
END:DAYLIGHT
BEGIN:STANDARD
TZOFFSETFROM:+0200
TZOFFSETTO:+0100
TZNAME:CET
DTSTART:20251026T010000
END:STANDARD
BEGIN:DAYLIGHT
TZOFFSETFROM:+0100
TZOFFSETTO:+0200
TZNAME:CEST
DTSTART:20260329T010000
END:DAYLIGHT
BEGIN:STANDARD
TZOFFSETFROM:+0200
TZOFFSETTO:+0100
TZNAME:CET
DTSTART:20261025T010000
END:STANDARD
BEGIN:DAYLIGHT
TZOFFSETFROM:+0100
TZOFFSETTO:+0200
TZNAME:CEST
DTSTART:20270328T010000
END:DAYLIGHT
BEGIN:STANDARD
TZOFFSETFROM:+0200
TZOFFSETTO:+0100
TZNAME:CET
DTSTART:20271031T010000
END:STANDARD
END:VTIMEZONE
BEGIN:VEVENT
DTSTART;VALUE=DATE:20260628
DTEND;VALUE=DATE:20260629
DTSTAMP:20260421T121551
CREATED:20251118T100648Z
LAST-MODIFIED:20251118T100648Z
UID:10001283-1782604800-1782691199@www.mudradar.de
SUMMARY:Cross de Luxe Thüringen 2026
DESCRIPTION:(c) crossdeluxe.de\nIn diesem Jahr wird auch Jena in Thüringen zum Schauplatz eines der Cross de Luxe Obstacle Course Race (OCR) – ! Serie ! – vier Locations\, 10 Läufe und jede Menge Matsch – sei dabei und melde dich noch heute an! \nCross de Luxe Thüringen 2026\nDas Team bewegt und begeistert euch Jahr für Jahr und motiviert jeden von euch\, das ihr euch immer wieder für den schlammigsten Wettkampf des Jahres anmeldet.\nDer Cross de Luxe ist der erste Hindernislauf Ostdeutschlands mit einer „outdoor- schlammverrückten-Fan-Gemeinde“. \nCross de Luxe Thüringen 2026\nRace – Distanz am 02.06.2026 \nFamily Run – 3\,5 km – 16 HindernisseCross de Luxe Thüringen 2026 \nStrecke & Hindernisse Family Run \nDie Kulisse könnte kaum passender sein: Die Motocrosspiste von Großlöbichau verwandelt sich in einen 3\,5 km langen Schlammparcours mit 16 spannenden Hindernissen\, die es in sich haben. Egal\, ob klettern\, kriechen oder durch den Schlamm robben – hier bleibt garantiert niemand sauber! \n\nWeitere Hindernisläufe von Cross de Luxe in deiner Nähe!!\n\nCross de Luxe – Erzgebirge (Schneeberg)\nCross de Luxe – Thüringen (Jena)\nCross de Luxe – Dresden (Freizeitzentrum Hains Freital)\nCross de Luxe – Leipzig (Markkleeberger See)
URL:https://www.mudradar.de/hindernislauf/cross-de-luxe-thueringen-2026
LOCATION:Cross de Luxe Thüringen\, Motocrossstrecke\, Großlöbichau\, Thüringen\, 07751\, Deutschland
CATEGORIES:04 km
ATTACH;FMTTYPE=image/jpeg:https://www.mudradar.de/wp-content/uploads/2021/11/Cross_de_Luxe_Galerie_7.jpg
END:VEVENT
BEGIN:VEVENT
DTSTART;VALUE=DATE:20260823
DTEND;VALUE=DATE:20260824
DTSTAMP:20260421T121551
CREATED:20250831T130511Z
LAST-MODIFIED:20251118T095931Z
UID:10001281-1787443200-1787529599@www.mudradar.de
SUMMARY:Cross de Luxe Dresden 2026
DESCRIPTION:(c) crossdeluxe.de\nAuch in diesem Jahr wird Freital in Sachsen (nähe Dresden) zum Schauplatz eines der Cross de Luxe Obstacle Course Race (OCR) – ! Serie ! – vier Locations\, 10 Läufe und jede Menge Matsch – sei dabei und melde dich noch heute an! \nCross de Luxe Dresden 2026\nDas Team bewegt und begeistert euch Jahr für Jahr und motiviert jeden von euch\, das ihr euch immer wieder für den schlammigsten Wettkampf des Jahres anmeldet.\nDer Cross de Luxe ist der erste Hindernislauf Ostdeutschlands mit einer „outdoor- schlammverrückten-Fan-Gemeinde“. \nCross de Luxe Dresden 2026\nRace – Distanzen am 23.08.2026 \nHard-16 – 16 km (Einzelstarter\, Gruppenstarter) = 2 Runden – 60 Hindernisse\nBig-8     –   8 km (Einzelstarter\, Gruppenstarter) = 1 Runde   – 30 Hindernisse \nTRIPLE MEDAILLE: 3 Locations – 3 mal Action und Schlamm – 3 mal Winner sein\nSei bei allen drei Rennen dabei und ergattere Dir einen Teil der großen TRIPLE Medaille.\nZusammen ergeben alle drei Teile Deine fette – super – schwere CROSSDELUXE 2026 Medaille. \nCross de Luxe Dresden 2026\nStrecke  \nWir bieten Dir eine einzigartige Kulisse und eine famose Strecke unweit der Barockstadt Dresden\, wo Du Dich auch mal ungestört auspowern und so richtig dreckig machen kannst! Auf 8 km Länge warten 30 Hindernisse auf Dich. Fette Hügel\, morastige Schlammlöcher und jede Menge Klettermöglichkeiten werden Dir alles abverlangen. Das solltest Du wissen! Bei uns walten alle Elemente! Neben Luft\, Wasser und Feuer gibt es jede Menge (Matsch)-Erde bzw. Schlamm – mach Dich jetzt bereit für den 5. Sparkassen-Cross de Luxe Freital. Und sei dabei! Es wird ein Fest! \nHindernisse \nWir haben uns auch für 2026 wieder neue Hindernisse ausgedacht. Schau Dir jetzt die neuen Hindernisse und Herausforderungen für Deinen Lauf an und dann solltest Du mit dem Training starten! Denn das wirst Du brauchen :). Anstrengende Hindernisse und eine anspruchsvolle Laufstrecke durch das Weißeritztal sind kein Zuckerschlecken. Also Beine in die Hand und Matsch ahoi! \n\n\nBeetle Challenge\nReifensandwich\nGanzkörper-Peeling\nTreibsand\nJeep Crawler\n\nWeitere Hindernisläufe von Cross de Luxe in deiner Nähe!\n\nCross de Luxe – Erzgebirge (Schneeberg)\nCross de Luxe – Thüringen (Jena)\nCross de Luxe – Dresden (Freizeitzentrum Hains Freital)\nCross de Luxe – Leipzig (Markkleeberger See)
URL:https://www.mudradar.de/hindernislauf/cross-de-luxe-dresden-2026
LOCATION:Cross de Luxe Dresden\, An d. Kleinbahn 24\, Freital\, Sachsen\, 01705\, Deutschland
CATEGORIES:08 km,16 km
ATTACH;FMTTYPE=image/jpeg:https://www.mudradar.de/wp-content/uploads/2021/11/Cross_de_Luxe_Galerie_2.jpg
END:VEVENT
BEGIN:VEVENT
DTSTART;VALUE=DATE:20260925
DTEND;VALUE=DATE:20260928
DTSTAMP:20260421T121551
CREATED:20251118T091715Z
LAST-MODIFIED:20251118T101948Z
UID:10001282-1790294400-1790553599@www.mudradar.de
SUMMARY:Cross de Luxe Leipzig 2026
DESCRIPTION:(c) crossdeluxe.de\nZwei Tage im Jahr wird der Markkleeberger See in Sachsen (Markkleeberg / OT Auenhain) zum Schauplatz eines der Cross de Luxe Obstacle Course Race (OCR) – ! Serie ! – vier Locations\, 10 Läufe und jede Menge Matsch – sei dabei und melde dich noch heute an! \nCross de Luxe Leipzig 2026\nDas Team bewegt und begeistert euch Jahr für Jahr und motiviert jeden von euch\, das ihr euch immer wieder für den schlammigsten Wettkampf des Jahres anmeldet.\nDer Cross de Luxe ist der erste Hindernislauf Ostdeutschlands mit einer outdoor- schlammverrückten-Fan-Gemeinde. \nRace – Distanzen am 25.09.2026\nFAST4    –   4 km (Einzelstarter\, Gruppenstarter) = 1 Runde   – 14 Hindernisse\nBig9      –   9 km (Einzelstarter\, Gruppenstarter) = 1 Runde   – 34 Hindernisse \nRace – Distanzen am 26.09.2026\nHard18 – 18 km (Einzelstarter\, Gruppenstarter) = 2 Runden – 68 Hindernisse\nBig9     –   9 km (Einzelstarter\, Gruppenstarter) = 1 Runde   – 34 Hindernisse \nRace – Distanzen am 27.09.2026\nBig9     –   9 km (Einzelstarter\, Gruppenstarter) = 1 Runde  – 34 Hindernisse \nTRIPLE MEDAILLE: 3 Locations – 3 mal Action und Schlamm – 3 mal Winner sein\nSei bei allen drei Rennen dabei und ergattere Dir einen Teil der großen TRIPLE Medaille.\nZusammen ergeben alle drei Teile Deine fette – super – schwere CROSSDELUXE 2026 Medaille. \nCross de Luxe Leipzig 2026\nStrecke  \nWir bieten Dir eine einzigartige Kulisse und Strecke im Leipziger Neuseenland! Wo sich einst riesige Bagger durch die Landschaft quälten\, heißen wir Dich Herzlich willkommen. In und um den Markkleeberger See warten 34 künstliche und natürliche Hindernisse auf Dich. Perfektes Hautpeeling bieten hunderte von Sanddornbüsche und Matschpackungen. Wir bedienen jedes Element! Ob Luft\, Wasser oder (Matsch)-Erde – mach Dich bereit für den legendärsten Lauf des Ostens. \nHindernisse \nInsgesamt warten 32 unterschiedlichste Hindernisse auch euch\, darunter Hindernisse wie: \n\n\nBeetle Challenge\nTreibsand\nGrüne Hölle\nPiranha Becken\nSchlammpackung\n\nWeitere Hindernisläufe von Cross de Luxe in deiner Nähe!!\n\nCorss de Luxe – Erzgebirge (Schneeberg)\nCross de Luxe – Thüringen (Jena)\nCross de Luxe – Dresden (Freizeitzentrum Hains Freital)\nCross de Luxe – Leipzig (Markkleeberger See)
URL:https://www.mudradar.de/hindernislauf/cross-de-luxe-leipzig-2026
LOCATION:Cross de Luxe Leipzig\, Wildwasserkehre 1\, Markkleeberg\, Sachsen\, 04416\, Deutschland
CATEGORIES:04 km,09 km,18 km
ATTACH;FMTTYPE=image/jpeg:https://www.mudradar.de/wp-content/uploads/2021/11/Cross_de_Luxe_Galerie_8.jpg
END:VEVENT
END:VCALENDAR