BEGIN:VCALENDAR
VERSION:2.0
PRODID:-//MudRadar.de - ECPv6.15.20//NONSGML v1.0//EN
CALSCALE:GREGORIAN
METHOD:PUBLISH
X-WR-CALNAME:MudRadar.de
X-ORIGINAL-URL:https://www.mudradar.de
X-WR-CALDESC:Veranstaltungen für MudRadar.de
REFRESH-INTERVAL;VALUE=DURATION:PT1H
X-Robots-Tag:noindex
X-PUBLISHED-TTL:PT1H
BEGIN:VTIMEZONE
TZID:Europe/Berlin
BEGIN:DAYLIGHT
TZOFFSETFROM:+0100
TZOFFSETTO:+0200
TZNAME:CEST
DTSTART:20230326T010000
END:DAYLIGHT
BEGIN:STANDARD
TZOFFSETFROM:+0200
TZOFFSETTO:+0100
TZNAME:CET
DTSTART:20231029T010000
END:STANDARD
BEGIN:DAYLIGHT
TZOFFSETFROM:+0100
TZOFFSETTO:+0200
TZNAME:CEST
DTSTART:20240331T010000
END:DAYLIGHT
BEGIN:STANDARD
TZOFFSETFROM:+0200
TZOFFSETTO:+0100
TZNAME:CET
DTSTART:20241027T010000
END:STANDARD
BEGIN:DAYLIGHT
TZOFFSETFROM:+0100
TZOFFSETTO:+0200
TZNAME:CEST
DTSTART:20250330T010000
END:DAYLIGHT
BEGIN:STANDARD
TZOFFSETFROM:+0200
TZOFFSETTO:+0100
TZNAME:CET
DTSTART:20251026T010000
END:STANDARD
END:VTIMEZONE
BEGIN:VEVENT
DTSTART;VALUE=DATE:20240504
DTEND;VALUE=DATE:20240505
DTSTAMP:20260421T233335
CREATED:20230916T110029Z
LAST-MODIFIED:20230916T114837Z
UID:10001055-1714780800-1714867199@www.mudradar.de
SUMMARY:Strong Viking Family Edition Gent 2024 (BEL)
DESCRIPTION:(c) strongviking.com\nDie Strong Viking Family Edition Gent 2024 ist auch in diesem Jahr wieder in Gent in einem schönen Hafengebiet in Belgien. \nNach dem erfolgreichen Start nun zum dritten Mal im Frühling in Belgien! Die Strong Viking Family Edition! Wir fordern dich heraus\, mit uns auf eine coole 4 km lange Strecke voller Schlamm\, Hindernisse und Spaß zu gehen! \nStrong Viking Family Edition Gent 2024\nBist du stark und sportlich genug für die ultimative Familien-Challenge? Dann melde dich für den 4km Strong Viking Family Run in Gent an – DER Hindernislauf für Freunde und Familie! Bei der Strong Viking Family Edition dreht sich alles um Hindernisse\, Schlamm und Spaß und findet während der Strong Viking Mud Edition (4\, 7\, 13\, 19 und 42 km) statt. Neben den lustigen Familienhindernissen könnt ihr euch also auf kilometerlangen Schlammspaß einstellen! \nDer Kurs ist für Kinder ab 5 Jahren zugänglich. Hast du Kinder im Alter von 14 Jahren und älter\, die bereit für die nächste Herausforderung sind? Dann meldet sie für die Strong Viking Mud Edition an\, die am gleichen Wochenende stattfindet. \n\nStrong Viking Family Edition Gent 2024\n\nSeid ihr bereit für Hindernisse\, Schlamm & Spaß? Seid ihr auf der Suche nach einem ultimativen Familienerlebnis für groß und klein? Oder wollt ihr zusammen mit euren Freunden eine sportliche und einzigartige Herausforderung erleben? Dann meldet euch gemeinsam mit der ganzen Familie für den Family Obstacle Run in Gent an und erlebt unvergessliche Momente! \n\n\n\n\n\n\n\n\n\nDie Strong Viking Family Edition Gent (Mud Edition) 2024 ist ein Hindernislauf bei dem auf einer Strecke von 4 km einfaches Joggen mit dem Überwinden von Hindernissen kombiniert wird. Es ist eine einzigartige Erfahrung für alle „Outdoor Sport“ Liebhaber. \nDer Strong Viking Family Run ganz unter dem Motto von Schlamm\, Hindernissen & jede Menge Spaß!
URL:https://www.mudradar.de/hindernislauf/strong-viking-family-edition-gent-2024
LOCATION:Gent\, Verbindingsbaan\, Lochristi\, 9185\, Belgium
CATEGORIES:04 km
ATTACH;FMTTYPE=image/jpeg:https://www.mudradar.de/wp-content/uploads/2021/12/2022-09-11_SV_FamilyEdition_Water_Gent.jpg
ORGANIZER;CN="Strong Viking":MAILTO:info@strongviking.de
GEO:51.1559569;3.8807477
X-APPLE-STRUCTURED-LOCATION;VALUE=URI;X-ADDRESS=Gent Verbindingsbaan Lochristi 9185 Belgium;X-APPLE-RADIUS=500;X-TITLE=Verbindingsbaan:geo:3.8807477,51.1559569
END:VEVENT
BEGIN:VEVENT
DTSTART;VALUE=DATE:20240427
DTEND;VALUE=DATE:20240428
DTSTAMP:20260421T233335
CREATED:20230917T100002Z
LAST-MODIFIED:20230917T104111Z
UID:10001072-1714176000-1714262399@www.mudradar.de
SUMMARY:Hotfoot Run Nürburgring 2024
DESCRIPTION:Das Original – #RunLegendary beim spektakulärsten Hindernislauf der Welt! \nWeit mehr als 10.000 Läufer\, 40 Hindernisse\, 24 km\, prominente Kulisse\, Massenstart. So ist der Nürburgring\, so liebt ihr ihn! \nFrüher StrongmanRun – Heute Hotfoot Run!! \nHotfoot Run Nürburgring 2024\n(c) hotfootrun.de\nEure „Mutter aller Hindernisläufe“ macht sich jedes Jahr bereit für euch und den ultimativen Fisherman’s Friend StrongmanRun-Kick! Wer einmal bei der fulminanten Startshow und dem Original-Lauf dabei war\, der weiß wovon wir sprechen. Badet im Eifelschlammbad-Deluxe\, erklimmt die Höhenmeter und springt mit einer Arschbombe ins eiskalte Wasserbecken. Hier wo normalerweise heiße Autos über den Asphalt jagen\, jagen wir euch ins Läuferglück! \nDistanzen Hotfoot Run Nürburgring 2024\n\nFunRun-6 mit 6-8 km und 10 Hindernissen\nSTRONG-12 mit 12 km und 20 Hindernissen\nTHE ORIGINAL mit 24 km und 40 Hindernissen\n\nHier wird jeder bis zum Ziel gefeiert. Zu tough für dich? Dafür gibt es seit 2019 unseren FunRun mit zehn spaßigen Hindernissen auf 6-8 km! Oder du meldest dich mit deiner Crew an – ihr helft euch gegenseitig und spart noch mit unseren Gruppenrabatten! Denn wer zusammen läuft\, hat mehr Spaß! \nHotfoot Run Nürburgring 2024\n\n\n#RUNHOT AM NÜRBURGRING \n\n10.000 Läufer\, 40 Hindernisse\, 24 km\, prominente Kulisse\, Massenstart. So ist der Nürburgring seit 2011\, so liebt ihr ihn\, so wird es bleiben – auch\, wenn der Name sich geändert hat! Der „KING OF OBSTACLES“ macht sich bereit für euch und den ultimativen Hindernislauf-Kick! Wer einmal bei der fulminanten Startshow mit der Legendary Ghetto Dance Band und dem heißesten Lauf Deutschlands dabei war\, der weiß\, wovon wir sprechen. Badet im Eifelschlammbad-Deluxe\, überwindet zahlreiche Höhenmeter und springt mit einer Arschbombe ins eiskalte Wasserbecken. Hier wo normalerweise heiße Autos über den Asphalt jagen\, jagen wir euch ins Läuferglück! \nBringt euren persönlichen Support mit\, denn auch für alle\, die sich nicht der sportlichen Herausforderung stellen\, haben wir im Fahrerlager einiges zu bieten. Und das Ganze selbstverständlich eintrittsfrei für alle Zuschauer! \n\n\nEifel\, prominente Kulisse\, Platz ohne Ende und eine lange Geschichte\, die uns mit dem Nürburgring verbindet. Die Startshow\, die wir hier mit euch feiern\, ist legendär. Hier toben wir uns richtig aus. Unsere kreativen Hindernisse und die Höhenmeter der Eifel bringen euch mal so richtig ins Schwitzen!\n[Quelle: hotfootrun.de]
URL:https://www.mudradar.de/hindernislauf/hotfoot-run-nuerburgring-2024
LOCATION:Hotfoot Run Nürburgring\, Otto-Flimm-Straße\, Nürburg\, Rheinland-Pfalz\, 53520\, Deutschland
CATEGORIES:06 km,12 km,24 km
ATTACH;FMTTYPE=image/jpeg:https://www.mudradar.de/wp-content/uploads/2022/08/Event_HotfootRun_2023.05.06.jpg
ORGANIZER;CN="Hotfoot Run":MAILTO:info@hotfootrun.de
GEO:50.3418803;6.9520304
X-APPLE-STRUCTURED-LOCATION;VALUE=URI;X-ADDRESS=Hotfoot Run Nürburgring Otto-Flimm-Straße Nürburg Rheinland-Pfalz 53520 Deutschland;X-APPLE-RADIUS=500;X-TITLE=Otto-Flimm-Straße:geo:6.9520304,50.3418803
END:VEVENT
END:VCALENDAR