BEGIN:VCALENDAR
VERSION:2.0
PRODID:-//MudRadar.de - ECPv6.15.20//NONSGML v1.0//EN
CALSCALE:GREGORIAN
METHOD:PUBLISH
X-ORIGINAL-URL:https://www.mudradar.de
X-WR-CALDESC:Veranstaltungen für MudRadar.de
REFRESH-INTERVAL;VALUE=DURATION:PT1H
X-Robots-Tag:noindex
X-PUBLISHED-TTL:PT1H
BEGIN:VTIMEZONE
TZID:Europe/Berlin
BEGIN:DAYLIGHT
TZOFFSETFROM:+0100
TZOFFSETTO:+0200
TZNAME:CEST
DTSTART:20230326T010000
END:DAYLIGHT
BEGIN:STANDARD
TZOFFSETFROM:+0200
TZOFFSETTO:+0100
TZNAME:CET
DTSTART:20231029T010000
END:STANDARD
BEGIN:DAYLIGHT
TZOFFSETFROM:+0100
TZOFFSETTO:+0200
TZNAME:CEST
DTSTART:20240331T010000
END:DAYLIGHT
BEGIN:STANDARD
TZOFFSETFROM:+0200
TZOFFSETTO:+0100
TZNAME:CET
DTSTART:20241027T010000
END:STANDARD
BEGIN:DAYLIGHT
TZOFFSETFROM:+0100
TZOFFSETTO:+0200
TZNAME:CEST
DTSTART:20250330T010000
END:DAYLIGHT
BEGIN:STANDARD
TZOFFSETFROM:+0200
TZOFFSETTO:+0100
TZNAME:CET
DTSTART:20251026T010000
END:STANDARD
BEGIN:DAYLIGHT
TZOFFSETFROM:+0100
TZOFFSETTO:+0200
TZNAME:CEST
DTSTART:20260329T010000
END:DAYLIGHT
BEGIN:STANDARD
TZOFFSETFROM:+0200
TZOFFSETTO:+0100
TZNAME:CET
DTSTART:20261025T010000
END:STANDARD
END:VTIMEZONE
BEGIN:VEVENT
DTSTART;VALUE=DATE:20250627
DTEND;VALUE=DATE:20250629
DTSTAMP:20260421T174437
CREATED:20241106T100014Z
LAST-MODIFIED:20241106T100014Z
UID:10001207-1750982400-1751155199@www.mudradar.de
SUMMARY:Getting Tough Oberhof 2025
DESCRIPTION:(c) Getting Tough\nGetting Tough Oberhof 2025 ist in seiner neuen Lokation in Oberhof angekommen und hat sich bereits etabliert. \nGetreu dem Motto der Veranstalter: „Wir sagen euch nicht\, dass es einfach wird\, wir sagen euch nur\, dass es sich lohnen wird!“ erwartet die Teilnehmer auch beim Getting Tough Oberhof ein brutaler Parcours mit vielen fordernden Hindernissen. \nGetting Tough Oberhof 2025\nBeim ersten GTTR in Oberhof stehen euch zwei Distanzen zur Verfügung\, die 9 km bzw. und/ oder die 17 km – versprochene Hindernis „HighLights“ sind: Rodelbahn\, Skihalle\, Skiarena\, Sprungschanzen Kanzlergrund\, Biketrail\, Wadebergschanze!! \nIhr braucht mehr Informationen über die Hindernisse beim Getting Tough Oberhof\, dann schaut einfach hier nach!! \nKids Run Oberhof 2025\nDer Kid´s-Run Oberhof steht mit zwei Distanzen/ Altersklassen bereit für euch. Es wird eine 1\,2 km Distanz geben für Kinder zwischen 6 – 9 Jahren und eine 2 km Distanz für jugendliche zwischen 10 – 15 Jahren!!\nAb geht es\, anmelden und dabei sein …
URL:https://www.mudradar.de/hindernislauf/getting-tough-oberhof-2025
LOCATION:Getting Tough Oberhof\, Crawinkler Straße 1\, Oberhof\, Thüringen\, 98559\, Deutschland
CATEGORIES:01 km,02 km,09 km,17 km
ATTACH;FMTTYPE=image/jpeg:https://www.mudradar.de/wp-content/uploads/2020/11/2021.08.14_GettingTough_Oberhof.jpg
ORGANIZER;CN="Getting Tough":MAILTO:info@gettingtough-race.de
GEO:50.7073649;10.7242429
X-APPLE-STRUCTURED-LOCATION;VALUE=URI;X-ADDRESS=Getting Tough Oberhof Crawinkler Straße 1 Oberhof Thüringen 98559 Deutschland;X-APPLE-RADIUS=500;X-TITLE=Crawinkler Straße 1:geo:10.7242429,50.7073649
END:VEVENT
BEGIN:VEVENT
DTSTART;VALUE=DATE:20240622
DTEND;VALUE=DATE:20240623
DTSTAMP:20260421T174437
CREATED:20230917T100055Z
LAST-MODIFIED:20230917T134949Z
UID:10001078-1719014400-1719100799@www.mudradar.de
SUMMARY:Getting Tough Oberhof 2024
DESCRIPTION:(c) Getting Tough\nGetting Tough Oberhof 2024 ist in seiner neuen Lokation in Oberhof angekommen und hat sich bereits etabliert. \nGetreu dem Motto der Veranstalter: „Wir sagen euch nicht\, dass es einfach wird\, wir sagen euch nur\, dass es sich lohnen wird!“ erwartet die Teilnehmer auch beim Getting Tough Oberhof 2024 ein brutaler Parcours mit vielen fordernden Hindernissen. \nGetting Tough Oberhof 2024\nBeim ersten GTTR in Oberhof stehen euch zwei Distanzen zur Verfügung\, die 9 km bzw. und/ oder die 17 km – versprochene Hindernis „HighLights“ sind: Rodelbahn\, Skihalle\, Skiarena\, Sprungschanzen Kanzlergrund\, Biketrail\, Wadebergschanze!! \nIhr braucht mehr Informationen über die Hindernisse beim Getting Tough Oberhof 2022\, dann schaut einfach hier nach!! \nKids Run Oberhof 2024\nDer Kid´s-Run Oberhof steht mit zwei Distanzen/ Altersklassen bereit für euch. Es wird eine 1\,2 km Distanz geben für Kinder zwischen 6 – 9 Jahren und eine 2 km Distanz für jugendliche zwischen 10 – 15 Jahren!!\nAb geht es\, anmelden und dabei sein …
URL:https://www.mudradar.de/hindernislauf/getting-tough-oberhof-2024
LOCATION:Getting Tough Oberhof\, Crawinkler Straße 1\, Oberhof\, Thüringen\, 98559\, Deutschland
CATEGORIES:01 km,02 km,09 km,17 km
ATTACH;FMTTYPE=image/jpeg:https://www.mudradar.de/wp-content/uploads/2020/11/2021.08.14_GettingTough_Oberhof.jpg
ORGANIZER;CN="Getting Tough":MAILTO:info@gettingtough-race.de
GEO:50.7073649;10.7242429
X-APPLE-STRUCTURED-LOCATION;VALUE=URI;X-ADDRESS=Getting Tough Oberhof Crawinkler Straße 1 Oberhof Thüringen 98559 Deutschland;X-APPLE-RADIUS=500;X-TITLE=Crawinkler Straße 1:geo:10.7242429,50.7073649
END:VEVENT
END:VCALENDAR