BEGIN:VCALENDAR
VERSION:2.0
PRODID:-//MudRadar.de - ECPv6.15.20//NONSGML v1.0//EN
CALSCALE:GREGORIAN
METHOD:PUBLISH
X-WR-CALNAME:MudRadar.de
X-ORIGINAL-URL:https://www.mudradar.de
X-WR-CALDESC:Veranstaltungen für MudRadar.de
REFRESH-INTERVAL;VALUE=DURATION:PT1H
X-Robots-Tag:noindex
X-PUBLISHED-TTL:PT1H
BEGIN:VTIMEZONE
TZID:Europe/Berlin
BEGIN:DAYLIGHT
TZOFFSETFROM:+0100
TZOFFSETTO:+0200
TZNAME:CEST
DTSTART:20230326T010000
END:DAYLIGHT
BEGIN:STANDARD
TZOFFSETFROM:+0200
TZOFFSETTO:+0100
TZNAME:CET
DTSTART:20231029T010000
END:STANDARD
BEGIN:DAYLIGHT
TZOFFSETFROM:+0100
TZOFFSETTO:+0200
TZNAME:CEST
DTSTART:20240331T010000
END:DAYLIGHT
BEGIN:STANDARD
TZOFFSETFROM:+0200
TZOFFSETTO:+0100
TZNAME:CET
DTSTART:20241027T010000
END:STANDARD
BEGIN:DAYLIGHT
TZOFFSETFROM:+0100
TZOFFSETTO:+0200
TZNAME:CEST
DTSTART:20250330T010000
END:DAYLIGHT
BEGIN:STANDARD
TZOFFSETFROM:+0200
TZOFFSETTO:+0100
TZNAME:CET
DTSTART:20251026T010000
END:STANDARD
BEGIN:DAYLIGHT
TZOFFSETFROM:+0100
TZOFFSETTO:+0200
TZNAME:CEST
DTSTART:20260329T010000
END:DAYLIGHT
BEGIN:STANDARD
TZOFFSETFROM:+0200
TZOFFSETTO:+0100
TZNAME:CET
DTSTART:20261025T010000
END:STANDARD
END:VTIMEZONE
BEGIN:VEVENT
DTSTART;VALUE=DATE:20250803
DTEND;VALUE=DATE:20250804
DTSTAMP:20260421T223245
CREATED:20251113T082042Z
LAST-MODIFIED:20251113T082042Z
UID:10001317-1754179200-1754265599@www.mudradar.de
SUMMARY:Rock the Race Würzburg 2026
DESCRIPTION:(c) Rock The Race\nMitten in Würzburg findet 2026 wieder das mittlerweile 11. Lifestyle „Rock the Race“ Event statt.  Rock The Race ist ein Cross/ Hindernislauf über ca. 17 km mit ca. 30 Hindernissen oder über ca. 7 km für Firmen\, Vereine und Einsteiger mit ca. 20 Hindernissen sowie dem Kids Rock Race über ca. 3 km mit ca. 10 Hindernissen für den Nachwuchs. \nDa der 7 km Hindernislauf und das 3 km Kids-Race direkt am Main entlang verläuft\, gibt es keine/ kaum Höhenmeter.\nBeim 17 km Lauf hingegen werden aufgrund des Laufes über die Würzburger Festung zusätzliche Höhenmeter gesammelt! \nRock the Race Würzburg 2026\nDas Rock the Race ist ein Lauf über ca. 17 km mit ca. 300 Höhenmetern auf die Festung Marienberg. Während dieser Strecke gilt es ca. 30 Hindernisse zu überwinden. \nAls kürzere Version und besonders für Firmen gibt es die ca. 7 km Strecke am Main entlang mit ca. 20 Hindernissen – Start in Wellen.\n \nDas ROCK the RACE KIDS geht über eine Streckenlänge von ca. 3 km und ca. 10 Hindernissen (Alter 4-14 Jahre) – Start 10.30 Uhr. \nUnter anderem könnt ihr euch auf folgende Hindernisse freuen:  \n\nContainer mit unterschiedlichster Füllung\nReifen\nKletterwand/ Hürden/ Holzbauten\n\nKriechhindernisse\nRampen\nMonkey Bars\nHolztreppen\nAutos\nRutsche \nWasserbecken/ Wasserhindernisse\n\nRock the Race Würzburg 2026\nBeim Rock the Race musst Du dich selbst und Deinen inneren Schweinehund überwinden\, um deine körperlichen Grenzen zu erfahren. Finde heraus\, wozu Du in der Lage bist und was Du alles schaffen kannst\, wenn Du es wirklich willst. Das Rock the Race kann man alleine oder auch im Team bestreiten! \n(c) Rock The Race\nRock the Race verspricht ein tolles Teamspirit – man hilft sich gegenseitig bei den Hindernissen. Es geht nicht alleine um die Zeit\, sondern hauptsächlich um das Erlebnis! Gerade auch für Firmen um den Zusammenhalt und das Teambuilding auf einem tollen Event zu festigen/ verstärken! \nRock the Race Würzburg 2026\nPreisgestaltung für OCR´s\nSolltet ihr euch nicht für eine Mitgliedschaft begeistern können\, so bleibt immer noch die Möglichkeit zu sparen!\nOb „Early Bird“ oder „Frühbucherrabatt“ – es lohnt sich auf alle Fälle sich rechtzeitig ein Ticket zu besorgen\, da die Preise kontinuierlich Steigen je näher der Termin für das Race heranrückt!!\nAuch gibt man dem Veranstalter mit einer frühen Buchung Handlungssicherheit für die Durchführung eures Lieblings-Events.\nAlso jetzt bereits Tickets buchen und bares Geld sparen!!
URL:https://www.mudradar.de/hindernislauf/rock-the-race-wuerzburg-2026
LOCATION:Rock the Race\, Viehmarktplatz\, Würzburg\, Bayern\, 97082\, Deutschland
CATEGORIES:03 km,07 km,17 km
ATTACH;FMTTYPE=image/jpeg:https://www.mudradar.de/wp-content/uploads/2019/03/tpl-logo-veranstalter.jpg
ORGANIZER;CN="Rock the Race":MAILTO:info@rocktherace.de
GEO:49.7981338;9.9226624
X-APPLE-STRUCTURED-LOCATION;VALUE=URI;X-ADDRESS=Rock the Race Viehmarktplatz Würzburg Bayern 97082 Deutschland;X-APPLE-RADIUS=500;X-TITLE=Viehmarktplatz:geo:9.9226624,49.7981338
END:VEVENT
BEGIN:VEVENT
DTSTART;VALUE=DATE:20250803
DTEND;VALUE=DATE:20250804
DTSTAMP:20260421T223245
CREATED:20241106T101517Z
LAST-MODIFIED:20241223T064515Z
UID:10001211-1754179200-1754265599@www.mudradar.de
SUMMARY:Rock the Race Würzburg 2025
DESCRIPTION:(c) Rock The Race\nMitten in Würzburg findet 2024 wieder das mittlerweile 10. Lifestyle „Rock the Race“ Event statt.  Rock The Race ist ein Cross/ Hindernislauf über ca. 17 km mit ca. 30 Hindernissen oder über ca. 7 km für Firmen\, Vereine und Einsteiger mit ca. 20 Hindernissen sowie dem Kids Rock Race über ca. 3 km mit ca. 10 Hindernissen für den Nachwuchs. \nDa der 7 km Hindernislauf und das 3 km Kids-Race direkt am Main entlang verläuft\, gibt es keine/ kaum Höhenmeter.\nBeim 17 km Lauf hingegen werden aufgrund des Laufes über die Würzburger Festung zusätzliche Höhenmeter gesammelt! \nRock the Race Würzburg 2025\nDas Rock the Race ist ein Lauf über ca. 17 km mit ca. 300 Höhenmetern auf die Festung Marienberg. Während dieser Strecke gilt es ca. 30 Hindernisse zu überwinden. \nAls kürzere Version und besonders für Firmen gibt es die ca. 7 km Strecke am Main entlang mit ca. 20 Hindernissen – Start in Wellen.\n \nDas ROCK the RACE KIDS geht über eine Streckenlänge von ca. 3 km und ca. 10 Hindernissen (Alter 4-14 Jahre) – Start 10.30 Uhr. \nUnter anderem könnt ihr euch auf folgende Hindernisse freuen:  \n\nContainer mit unterschiedlichster Füllung\nReifen\nKletterwand/ Hürden/ Holzbauten\n\nKriechhindernisse\nRampen\nMonkey Bars\nHolztreppen\nAutos\nRutsche \nWasserbecken/ Wasserhindernisse\n\nRock the Race Würzburg 2025\nBeim Rock the Race musst Du dich selbst und Deinen inneren Schweinehund überwinden\, um deine körperlichen Grenzen zu erfahren. Finde heraus\, wozu Du in der Lage bist und was Du alles schaffen kannst\, wenn Du es wirklich willst. Das Rock the Race kann man alleine oder auch im Team bestreiten! \n(c) Rock The Race\nRock the Race verspricht ein tolles Teamspirit – man hilft sich gegenseitig bei den Hindernissen. Es geht nicht alleine um die Zeit\, sondern hauptsächlich um das Erlebnis! Gerade auch für Firmen um den Zusammenhalt und das Teambuilding auf einem tollen Event zu festigen/ verstärken!
URL:https://www.mudradar.de/hindernislauf/rock-the-race-wuerzburg-2025
LOCATION:Rock the Race\, Viehmarktplatz\, Würzburg\, Bayern\, 97082\, Deutschland
CATEGORIES:03 km,07 km,17 km
ATTACH;FMTTYPE=image/jpeg:https://www.mudradar.de/wp-content/uploads/2019/03/tpl-logo-veranstalter.jpg
ORGANIZER;CN="Rock the Race":MAILTO:info@rocktherace.de
GEO:49.7981338;9.9226624
X-APPLE-STRUCTURED-LOCATION;VALUE=URI;X-ADDRESS=Rock the Race Viehmarktplatz Würzburg Bayern 97082 Deutschland;X-APPLE-RADIUS=500;X-TITLE=Viehmarktplatz:geo:9.9226624,49.7981338
END:VEVENT
BEGIN:VEVENT
DTSTART;VALUE=DATE:20240804
DTEND;VALUE=DATE:20240805
DTSTAMP:20260421T223245
CREATED:20231103T070003Z
LAST-MODIFIED:20231103T105537Z
UID:10001111-1722729600-1722815999@www.mudradar.de
SUMMARY:Rock the Race Würzburg 2024
DESCRIPTION:(c) Rock The Race\nMitten in Würzburg findet 2024 wieder das mittlerweile 9. Lifestyle „Rock the Race“ Event statt.  Rock The Race ist ein Cross/ Hindernislauf über ca. 17 km mit ca. 30 Hindernissen oder über ca. 7 km für Firmen\, Vereine und Einsteiger mit ca. 20 Hindernissen sowie dem Kids Rock Race über ca. 3 km mit ca. 10 Hindernissen für den Nachwuchs. \nDa der 7 km Hindernislauf und das 3 km Kids-Race direkt am Main entlang verläuft\, gibt es keine/ kaum Höhenmeter.\nBeim 17 km Lauf hingegen werden aufgrund des Laufes über die Würzburger Festung zusätzliche Höhenmeter gesammelt! \nRock the Race Würzburg 2024\nDas Rock the Race ist ein Lauf über ca. 17 km mit ca. 300 Höhenmetern auf die Festung Marienberg. Während dieser Strecke gilt es ca. 30 Hindernisse zu überwinden. \nAls kürzere Version und besonders für Firmen gibt es die ca. 7 km Strecke am Main entlang mit ca. 20 Hindernissen – Start in Wellen.\n \nDas ROCK the RACE KIDS geht über eine Streckenlänge von ca. 3 km und ca. 10 Hindernissen (Alter 4-14 Jahre) – Start 10.30 Uhr. \nUnter anderem könnt ihr euch auf folgende Hindernisse freuen:  \n\nContainer mit unterschiedlichster Füllung\nReifen\nKletterwand/ Hürden/ Holzbauten\n\nKriechhindernisse\nRampen\nMonkey Bars\nHolztreppen\nAutos\nRutsche \nWasserbecken/ Wasserhindernisse\n\nRock the Race Würzburg 2024\nBeim Rock the Race musst Du dich selbst und Deinen inneren Schweinehund überwinden\, um deine körperlichen Grenzen zu erfahren. Finde heraus\, wozu Du in der Lage bist und was Du alles schaffen kannst\, wenn Du es wirklich willst. Das Rock the Race kann man alleine oder auch im Team bestreiten! \n(c) Rock The Race\nRock the Race verspricht ein tolles Teamspirit – man hilft sich gegenseitig bei den Hindernissen. Es geht nicht alleine um die Zeit\, sondern hauptsächlich um das Erlebnis! Gerade auch für Firmen um den Zusammenhalt und das Teambuilding auf einem tollen Event zu festigen/ verstärken!
URL:https://www.mudradar.de/hindernislauf/rock-the-race-wuerzburg-2024
LOCATION:Rock the Race\, Viehmarktplatz\, Würzburg\, Bayern\, 97082\, Deutschland
CATEGORIES:03 km,07 km,17 km
ATTACH;FMTTYPE=image/jpeg:https://www.mudradar.de/wp-content/uploads/2016/12/sc-rock-the-race.jpg
ORGANIZER;CN="Rock the Race":MAILTO:info@rocktherace.de
GEO:49.7981338;9.9226624
X-APPLE-STRUCTURED-LOCATION;VALUE=URI;X-ADDRESS=Rock the Race Viehmarktplatz Würzburg Bayern 97082 Deutschland;X-APPLE-RADIUS=500;X-TITLE=Viehmarktplatz:geo:9.9226624,49.7981338
END:VEVENT
END:VCALENDAR