BEGIN:VCALENDAR
VERSION:2.0
PRODID:-//MudRadar.de - ECPv6.15.20//NONSGML v1.0//EN
CALSCALE:GREGORIAN
METHOD:PUBLISH
X-WR-CALNAME:MudRadar.de
X-ORIGINAL-URL:https://www.mudradar.de
X-WR-CALDESC:Veranstaltungen für MudRadar.de
REFRESH-INTERVAL;VALUE=DURATION:PT1H
X-Robots-Tag:noindex
X-PUBLISHED-TTL:PT1H
BEGIN:VTIMEZONE
TZID:Europe/Berlin
BEGIN:DAYLIGHT
TZOFFSETFROM:+0100
TZOFFSETTO:+0200
TZNAME:CEST
DTSTART:20230326T010000
END:DAYLIGHT
BEGIN:STANDARD
TZOFFSETFROM:+0200
TZOFFSETTO:+0100
TZNAME:CET
DTSTART:20231029T010000
END:STANDARD
BEGIN:DAYLIGHT
TZOFFSETFROM:+0100
TZOFFSETTO:+0200
TZNAME:CEST
DTSTART:20240331T010000
END:DAYLIGHT
BEGIN:STANDARD
TZOFFSETFROM:+0200
TZOFFSETTO:+0100
TZNAME:CET
DTSTART:20241027T010000
END:STANDARD
BEGIN:DAYLIGHT
TZOFFSETFROM:+0100
TZOFFSETTO:+0200
TZNAME:CEST
DTSTART:20250330T010000
END:DAYLIGHT
BEGIN:STANDARD
TZOFFSETFROM:+0200
TZOFFSETTO:+0100
TZNAME:CET
DTSTART:20251026T010000
END:STANDARD
END:VTIMEZONE
BEGIN:VEVENT
DTSTART;VALUE=DATE:20240914
DTEND;VALUE=DATE:20240916
DTSTAMP:20260420T193303
CREATED:20230917T100048Z
LAST-MODIFIED:20230917T105426Z
UID:10001073-1726272000-1726444799@www.mudradar.de
SUMMARY:Tough Mudder NRW-Eifel 2024
DESCRIPTION:Tough Mudder kehrt zurück!!! Auch im westen Deutschlands (BRW – Eifel) bringt Tough Mudder jetzt alle Mudders auf Hochtouren. \nTough Mudder NRW-Eifel 2024\n5 K mit 13 Hindernissen\n(c) Quelle: https://toughmudder.de/\nHier kommen 5 Kilometer der anderen Art. Vergiss das schnöde Umherlaufen im Park um die Ecke. Tough Mudder 5K ist hier\, um Deiner Routine einen Kick zu geben. Wir sind kein normaler Fun Run\, denn bei uns bekommst Du eine geballte Action\, erlebst unfassbar viel Teamwork und kämpfst Dich durch tonnenweise Matsch. \nTough Mudder 5K ist kein Wettrennen. Wir messen keine Zeit\, wir werten nicht. Du musst kein Sportler sein\, Du musst nicht mal trainieren. Du musst nur wollen. Erlebe ein Abenteuer von dem Du Deinen Freunden berichten kannst oder\, noch besser\, nimm Deine Freunde gleich mit. Helft Euch gegenseitig über 13 Hindernisse auf 5 Kilometern Strecke und feiert Euren Triumph danach im Ziel mit Eurem Finisher-Bier\, Essen\, Musik\, Spielen und vielem mehr. Werde Teil der Mudder Nation\, denn Laufen ist jetzt Teamsportart. \nWir bringen euch wieder beim Tough Mudder 5K auf ein neues Level\, denn unser neues Kurzstreckenformat ist Teil der Tough Mudder Eventwochenenden. Und das heißt\, bald gibt’s noch mehr Hindernisse\, Action und endlich auch eine gewaltige Menge Matsch. \nClassic 10-15 km mit 20 bzw. 30 Hindernissen\nDas Event-Aus ist Geschichte. Denn in der kommende Saison liefern wir Euch wieder ein Erlebnis epischen Ausmaßes. Wir legen den Fokus wieder auf das\, was wirklich wichtig ist – Hindernisse. Mit Tough Mudder Classic\, streichen wir den ganzen überflüssigen Kram und liefern Euch 20 Hindernisse auf einer Strecke von 10 Kilometern und 30 Hindernisse auf der 15 km Strecke. Mit neuen oder veränderten Hindernissen auf jedem einzelnen Kurs. Wir bringen noch mehr Teamwork ins Spiel\, eine größere Variation von mentalen und körperlichen Herausforderungen und Schwierigkeitsgraden\, damit Ihr Eure ganz persönlichen Grenzen testen könnt. \nFeiert Euren Triumph bei eisgekühltem Finisher Bier und einer brandneuen Mudder Village After Party\, die Euch mit Live-Entertainment\, Bars\, Street Food\, Fitness Challenges und vielem mehr empfängt. Auf zum nächsten Stirnband\, Mudder.\n(Quelle: Tough Mudder) \nTough Mudder NRW-Eifel 2024\n\nist kein Rennen\, sondern eine Herausforderung\n\nBei Tough Mudder gibt es keinen Gewinner\, kein Siegertreppchen und keine Zeitmessung – es geht nicht darum\, wie schnell Du den Kurs bewältigen kannst\, sondern vielmehr um Teamarbeit und Zusammenhalt.
URL:https://www.mudradar.de/hindernislauf/tough-mudder-nrw-eifel-2024
LOCATION:Lausitzring\, Glindower Straße 28\, Beelitz\, Brandenburg\, 14547\, Deutschland
CATEGORIES:05 km,10 km,15 km
ATTACH;FMTTYPE=image/jpeg:https://www.mudradar.de/wp-content/uploads/2019/11/2020.06.06_ToughMudder_NRW.jpg
GEO:51.53456;13.92844
X-APPLE-STRUCTURED-LOCATION;VALUE=URI;X-ADDRESS=Lausitzring Glindower Straße 28 Beelitz Brandenburg 14547 Deutschland;X-APPLE-RADIUS=500;X-TITLE=Glindower Straße 28:geo:13.92844,51.53456
END:VEVENT
END:VCALENDAR