BEGIN:VCALENDAR
VERSION:2.0
PRODID:-//MudRadar.de - ECPv6.15.20//NONSGML v1.0//EN
CALSCALE:GREGORIAN
METHOD:PUBLISH
X-WR-CALNAME:MudRadar.de
X-ORIGINAL-URL:https://www.mudradar.de
X-WR-CALDESC:Veranstaltungen für MudRadar.de
REFRESH-INTERVAL;VALUE=DURATION:PT1H
X-Robots-Tag:noindex
X-PUBLISHED-TTL:PT1H
BEGIN:VTIMEZONE
TZID:Europe/Berlin
BEGIN:DAYLIGHT
TZOFFSETFROM:+0100
TZOFFSETTO:+0200
TZNAME:CEST
DTSTART:20250330T010000
END:DAYLIGHT
BEGIN:STANDARD
TZOFFSETFROM:+0200
TZOFFSETTO:+0100
TZNAME:CET
DTSTART:20251026T010000
END:STANDARD
BEGIN:DAYLIGHT
TZOFFSETFROM:+0100
TZOFFSETTO:+0200
TZNAME:CEST
DTSTART:20260329T010000
END:DAYLIGHT
BEGIN:STANDARD
TZOFFSETFROM:+0200
TZOFFSETTO:+0100
TZNAME:CET
DTSTART:20261025T010000
END:STANDARD
BEGIN:DAYLIGHT
TZOFFSETFROM:+0100
TZOFFSETTO:+0200
TZNAME:CEST
DTSTART:20270328T010000
END:DAYLIGHT
BEGIN:STANDARD
TZOFFSETFROM:+0200
TZOFFSETTO:+0100
TZNAME:CET
DTSTART:20271031T010000
END:STANDARD
END:VTIMEZONE
BEGIN:VEVENT
DTSTART;VALUE=DATE:20260822
DTEND;VALUE=DATE:20260823
DTSTAMP:20260420T161210
CREATED:20251018T130317Z
LAST-MODIFIED:20251018T130859Z
UID:10001291-1787356800-1787443199@www.mudradar.de
SUMMARY:Obstacle City Run Göttingen 2026
DESCRIPTION:Obstacle City Run Göttingen 2026\n(c) obstacle.-city-run.de\nDer Great Barrier Run heißt seit 2023 Obstacle City Run und ist der größte Hindernislauf in Mitteldeutschland! Mit mittlerweile weit über 4.500 Startenden feiert der Obstacle City Run in diesem Jahr seine neunte Auflage in Göttingen. \nAlso kein „Newcomer“ in der Szene – eher ein „alter Hase“ unter den OCR-Hindernisläufen! Dieser OCR ist angelegt als Familien und Besucher – Hindernislauf\, alles ist auf Spaß und Unterhaltung in Verbindung mit Hindernislauf ausgelegt. Das spiegelt sich in allen Facetten der Veranstaltung wieder! Das spiegelt sich auch in der Laufstrecke wieder\, die auf der 12 km Distanz 31 Hindernissen parat hat für euch. \n\nObstacle City Run Göttingen 2026\nWillkommen zur 11. Auflage in diesem Jahr!! –>  Was erwartet euch auf der Strecke?\n(c) obstacle-city-run.de\nWas euch beim Obstacle City Run auf der Strecke erwartet? Ein 3 km\, 6 km und ein 12 km langen Kurs der euch durch den Wald\, über Treppen und das Stadion des Sportzentrums der Uni Göttingen führt. Dabei trefft ihr auf viele Hindernisse mit Namen wie: \n\nWoodtower (Kletterturm)\nContainer Chaos (Überseecontainer)\nHangover (Kletterhindernis)\n\nDoch auch im Team könnt ihr eure wahre Stärke zeigen! Wir halten viele Vorteile speziell für Firmen\, Schulen und Vereine bereit\, sodass der Obstacle City Run ein rundum gelungener Tag für euch und eure Kolleg:innen & Freund:innen wird! \n=> ist Action\, Teamwork und Spaß..\nWir haben gesehen\, wie viel Spaß ihr daran hattet\, euch ein eigenes\, extravagantes Outfit für den Obstacle City Run anzuziehen\, rufen wir den Wettbewerb des „Best Dressed Team“ aus.\nWir werden eure Outfits genau im Auge haben und dann wird unsere Expertenjury ein Siegerteam küren.\nBei diesem Wettbewerb geht es um Ruhm\, Ehre und natürlich haben wir auch einen kleinen Preis für euch. Wir sind gespannt auf eure Kreativität! \nObstacle City Run Göttingen 2026\n\n\n\n\n\n\nSie sehen gerade einen Platzhalterinhalt von YouTube. Um auf den eigentlichen Inhalt zuzugreifen\, klicken Sie auf die Schaltfläche unten. Bitte beachten Sie\, dass dabei Daten an Drittanbieter weitergegeben werden. \n Mehr Informationen \n Inhalt entsperren Erforderlichen Service akzeptieren und Inhalte entsperren \n \n \n\nIm Team günstiger beim Obstacle CIty Run!!\nFür Teams (Firmen/ Schulen und Vereine) gibt es ein besonderes Highlight\, denn pro 5. Starter gibt es einen Gratisstartplatz\, also zum Beispiel: 5 Teammitglieder\, nur 4 zahlen oder 10 Teammitglieder nur 8 zahlen usw. \n\neinige Daten & Fakten\nStartzeiten:\nab 9:00 Uhr Startblöcke Family Edition 3 km\nca.10:15 Uhr Startblöcke 12 km\nca. 11:30 Uhr Startblöcke Schüler 6 km\nca. 12:30 Uhr Startblöcke 6 km \nEs gibt sowohl Umkleiden\, WCs und warme (ehrlich? – sagenhaft!!) Duschen in festen modernen Umkleiden. Die Wertsachen können gegen einen kleinen Obolus in einem Zelt abgegeben werden. \nKids Run beim Obstacle City Run 2026 in Göttingen\nEs wird ein KidsRun angeboten\, mit einer Streckenlänge/ Distanz von 2\,5 km! Dieser ist in zwei Altersgruppen aufgeteilt ist\, die erste Altersgruppe ist 6-10 Jahr\, die zweite ist von 11-15 Jahre. \nPreise für den Obstacle City Run\nOb „Early Bird“ oder „Frühbucherrabatt“ – es lohnt sich auf alle Fälle sich rechtzeitig ein Ticket zu besorgen\, da die Preise kontinuierlich Steigen je näher der Termin für das Race heranrückt!! Auch gibt man dem Veranstalter mit einer frühen Buchung Handlung Sicherheit für die Durchführung eures Lieblings-OCR´s.\nAlso jetzt bereits Tickets buchen und bares Geld sparen!!
URL:https://www.mudradar.de/hindernislauf/obstacle-city-run-goettingen-2026
LOCATION:Great Barrier Run Göttingen\, Gutenbergstraße 60\, Göttingen\, Niedersachsen\, 37075\, Deutschland
CATEGORIES:03 km,06 km,12 km
ATTACH;FMTTYPE=image/jpeg:https://www.mudradar.de/wp-content/uploads/2023/07/Neuigkeiten-Great-Barrier-Run-2023-1200.jpg
ORGANIZER;CN="TeamEinsNull GmbH":MAILTO:info@teameinsnull.de
GEO:51.5481308;9.9536096
X-APPLE-STRUCTURED-LOCATION;VALUE=URI;X-ADDRESS=Great Barrier Run Göttingen Gutenbergstraße 60 Göttingen Niedersachsen 37075 Deutschland;X-APPLE-RADIUS=500;X-TITLE=Gutenbergstraße 60:geo:9.9536096,51.5481308
END:VEVENT
END:VCALENDAR